BEGIN:VCALENDAR
VERSION:2.0
PRODID:-//De Opstap - ECPv6.15.20//NONSGML v1.0//EN
CALSCALE:GREGORIAN
METHOD:PUBLISH
X-ORIGINAL-URL:https://www.deopstap.com
X-WR-CALDESC:Evenementen voor De Opstap
REFRESH-INTERVAL;VALUE=DURATION:PT1H
X-Robots-Tag:noindex
X-PUBLISHED-TTL:PT1H
BEGIN:VTIMEZONE
TZID:UTC
BEGIN:STANDARD
TZOFFSETFROM:+0000
TZOFFSETTO:+0000
TZNAME:UTC
DTSTART:20240101T000000
END:STANDARD
END:VTIMEZONE
BEGIN:VEVENT
DTSTART;TZID=UTC:20260204T143000
DTEND;TZID=UTC:20260204T163000
DTSTAMP:20260422T090006
CREATED:20230922T132257Z
LAST-MODIFIED:20250807T141655Z
UID:1166-1770215400-1770222600@www.deopstap.com
SUMMARY:Peergroup voor (vermoedelijk) hoogbegaafde kinderen (groep 1 t/m 4)
DESCRIPTION:Ons doel is om (vermoedelijk) hoogbegaafde kinderen en jongeren met elkaar in contact te brengen door samen leuke activiteiten te ondernemen. Door het contact met gelijkgestemden kunnen de kinderen en jongeren zichzelf zijn\, kunnen zij levelen en vinden ze herkenning bij elkaar. We hopen dat we samen een leuke tijd hebben! \nU kunt hier aanmelden!
URL:https://www.deopstap.com/event/peergroup-voor-vermoedelijk-hoogbegaafde-kinderen-groep-1-t-m-4/
LOCATION:De Opstap\, Kerkstraat 30\, Eibergen\, Gelderland\, 7151 BW\, Nederland
CATEGORIES:De Opstap
END:VEVENT
BEGIN:VEVENT
DTSTART;TZID=UTC:20260129T183000
DTEND;TZID=UTC:20260129T203000
DTSTAMP:20260422T090006
CREATED:20230922T132536Z
LAST-MODIFIED:20250807T141726Z
UID:1172-1769711400-1769718600@www.deopstap.com
SUMMARY:Peergroup voor (vermoedelijk) hoogbegaafde jongeren (vanaf 1e klas VO)
DESCRIPTION:Ons doel is om (vermoedelijk) hoogbegaafde kinderen en jongeren met elkaar in contact te brengen door samen leuke activiteiten te ondernemen. Door het contact met gelijkgestemden kunnen de kinderen en jongeren zichzelf zijn\, kunnen zij levelen en vinden ze herkenning bij elkaar. We hopen dat we samen een leuke tijd hebben! \nU kunt hier aanmelden!
URL:https://www.deopstap.com/event/peergroup-voor-vermoedelijk-hoogbegaafde-jongeren-vanaf-1e-klas-vo/
LOCATION:Jimmy’s\, Bergstraat 10 A\, Neede\, Gelderland\, 7161 EK\, Nederland
CATEGORIES:De Opstap
END:VEVENT
BEGIN:VEVENT
DTSTART;TZID=UTC:20260128T143000
DTEND;TZID=UTC:20260128T163000
DTSTAMP:20260422T090006
CREATED:20230922T132343Z
LAST-MODIFIED:20250807T141757Z
UID:1168-1769610600-1769617800@www.deopstap.com
SUMMARY:Peergroup voor (vermoedelijk) hoogbegaafde kinderen (groep 5 t/m 8)
DESCRIPTION:Ons doel is om (vermoedelijk) hoogbegaafde kinderen en jongeren met elkaar in contact te brengen door samen leuke activiteiten te ondernemen. Door het contact met gelijkgestemden kunnen de kinderen en jongeren zichzelf zijn\, kunnen zij levelen en vinden ze herkenning bij elkaar. We hopen dat we samen een leuke tijd hebben! \nU kunt hier aanmelden!
URL:https://www.deopstap.com/event/peergroup-voor-vermoedelijk-hoogbegaafde-kinderen-groep-5-t-m-8-2/
LOCATION:De Opstap\, Kerkstraat 30\, Eibergen\, Gelderland\, 7151 BW\, Nederland
CATEGORIES:De Opstap
END:VEVENT
BEGIN:VEVENT
DTSTART;TZID=UTC:20251127T183000
DTEND;TZID=UTC:20251127T203000
DTSTAMP:20260422T090006
CREATED:20230420T132349Z
LAST-MODIFIED:20250807T141619Z
UID:1107-1764268200-1764275400@www.deopstap.com
SUMMARY:Peergroup voor (vermoedelijk) hoogbegaafde jongeren (vanaf 1e klas VO)
DESCRIPTION:Ons doel is om (vermoedelijk) hoogbegaafde kinderen en jongeren met elkaar in contact te brengen door samen leuke activiteiten te ondernemen. Door het contact met gelijkgestemden kunnen de kinderen en jongeren zichzelf zijn\, kunnen zij levelen en vinden ze herkenning bij elkaar. We hopen dat we samen een leuke tijd hebben! \nU kunt hier aanmelden!
URL:https://www.deopstap.com/event/peergroup-voor-vermoedelijk-hoogbegaafde-kinderen-4-7-jaar-2/
LOCATION:Jimmy’s\, Bergstraat 10 A\, Neede\, Gelderland\, 7161 EK\, Nederland
CATEGORIES:De Opstap
END:VEVENT
BEGIN:VEVENT
DTSTART;TZID=UTC:20251126T143000
DTEND;TZID=UTC:20251126T163000
DTSTAMP:20260422T090006
CREATED:20230420T132029Z
LAST-MODIFIED:20250807T141400Z
UID:1103-1764167400-1764174600@www.deopstap.com
SUMMARY:Peergroup voor (vermoedelijk) hoogbegaafde kinderen (groep 1 t/m 4)
DESCRIPTION:Ons doel is om (vermoedelijk) hoogbegaafde kinderen en jongeren met elkaar in contact te brengen door samen leuke activiteiten te ondernemen. Door het contact met gelijkgestemden kunnen de kinderen en jongeren zichzelf zijn\, kunnen zij levelen en vinden ze herkenning bij elkaar. We hopen dat we samen een leuke tijd hebben! \nU kunt hier aanmelden!
URL:https://www.deopstap.com/event/peergroup-voor-vermoedelijk-hoogbegaafde-kinderen-4-7-jaar/
LOCATION:De Opstap\, Kerkstraat 30\, Eibergen\, Gelderland\, 7151 BW\, Nederland
CATEGORIES:De Opstap
END:VEVENT
BEGIN:VEVENT
DTSTART;TZID=UTC:20251119T143000
DTEND;TZID=UTC:20251119T163000
DTSTAMP:20260422T090006
CREATED:20230922T131953Z
LAST-MODIFIED:20250807T141547Z
UID:1162-1763562600-1763569800@www.deopstap.com
SUMMARY:Peergroup voor (vermoedelijk) hoogbegaafde kinderen (groep 5 t/m 8)
DESCRIPTION:Ons doel is om (vermoedelijk) hoogbegaafde kinderen en jongeren met elkaar in contact te brengen door samen leuke activiteiten te ondernemen. Door het contact met gelijkgestemden kunnen de kinderen en jongeren zichzelf zijn\, kunnen zij levelen en vinden ze herkenning bij elkaar. We hopen dat we samen een leuke tijd hebben! \nU kunt hier aanmelden!
URL:https://www.deopstap.com/event/peergroup-voor-vermoedelijk-hoogbegaafde-kinderen-groep-5-t-m-8/
LOCATION:De Opstap\, Kerkstraat 30\, Eibergen\, Gelderland\, 7151 BW\, Nederland
CATEGORIES:De Opstap
END:VEVENT
BEGIN:VEVENT
DTSTART;TZID=UTC:20251105T100000
DTEND;TZID=UTC:20251105T113000
DTSTAMP:20260422T090006
CREATED:20220915T083554Z
LAST-MODIFIED:20250807T140516Z
UID:940-1762336800-1762342200@www.deopstap.com
SUMMARY:Mama-cafe over borstvoeding
DESCRIPTION:Voor jonge moeders met kinderen van 0-4 jaar die graag in contact willen komen met andere jonge moeders en praktische tips willen krijgen.
URL:https://www.deopstap.com/event/mama-cafe-3/
LOCATION:Openbare Bibliotheek Eibergen\, Grotestraat 58\, Eibergen\, Gelderland\, 7151 BD\, Nederland
CATEGORIES:De Opstap
END:VEVENT
BEGIN:VEVENT
DTSTART;TZID=UTC:20251014T180000
DTEND;TZID=UTC:20251014T190000
DTSTAMP:20260422T090006
CREATED:20220923T084810Z
LAST-MODIFIED:20250807T140746Z
UID:1026-1760464800-1760468400@www.deopstap.com
SUMMARY:Inloopspreekuur voor ouders van (vermoedelijk) hoogbegaafde kinderen
DESCRIPTION:Dit inloopspreekuur is voor ouders van (vermoedelijk) hoogbegaafde kinderen die graag informatie en praktische tips willen over thuis en/of school en andere ouders willen ontmoeten.
URL:https://www.deopstap.com/event/ouderbijeenkomst-hoogbegaafdheid-2e-bijeenkomst/
LOCATION:De Opstap\, Kerkstraat 30\, Eibergen\, Gelderland\, 7151 BW\, Nederland
CATEGORIES:De Opstap
END:VEVENT
BEGIN:VEVENT
DTSTART;TZID=UTC:20251009T183000
DTEND;TZID=UTC:20251009T203000
DTSTAMP:20260422T090006
CREATED:20230922T132058Z
LAST-MODIFIED:20250807T141438Z
UID:1164-1760034600-1760041800@www.deopstap.com
SUMMARY:Peergroup voor (vermoedelijk) hoogbegaafde jongeren (vanaf 1e klas VO)
DESCRIPTION:Ons doel is om (vermoedelijk) hoogbegaafde kinderen en jongeren met elkaar in contact te brengen door samen leuke activiteiten te ondernemen. Door het contact met gelijkgestemden kunnen de kinderen en jongeren zichzelf zijn\, kunnen zij levelen en vinden ze herkenning bij elkaar. We hopen dat we samen een leuke tijd hebben! \nU kunt hier aanmelden!
URL:https://www.deopstap.com/event/peergroup-voor-vermoedelijk-hoogbegaafde-kinderen-vanaf-1e-klas-vo/
LOCATION:Jimmy’s\, Bergstraat 10 A\, Neede\, Gelderland\, 7161 EK\, Nederland
CATEGORIES:De Opstap
END:VEVENT
BEGIN:VEVENT
DTSTART;TZID=UTC:20251008T143000
DTEND;TZID=UTC:20251008T163000
DTSTAMP:20260422T090006
CREATED:20230420T132534Z
LAST-MODIFIED:20250807T141327Z
UID:1111-1759933800-1759941000@www.deopstap.com
SUMMARY:Peergroup voor (vermoedelijk) hoogbegaafde kinderen (groep 1 t/m 4)
DESCRIPTION:Ons doel is om (vermoedelijk) hoogbegaafde kinderen en jongeren met elkaar in contact te brengen door samen leuke activiteiten te ondernemen. Door het contact met gelijkgestemden kunnen de kinderen en jongeren zichzelf zijn\, kunnen zij levelen en vinden ze herkenning bij elkaar. We hopen dat we samen een leuke tijd hebben! \nU kunt hier aanmelden!
URL:https://www.deopstap.com/event/peergroup-voor-vermoedelijk-hoogbegaafde-kinderen-4-7-jaar-4/
LOCATION:De Opstap\, Kerkstraat 30\, Eibergen\, Gelderland\, 7151 BW\, Nederland
CATEGORIES:De Opstap
END:VEVENT
BEGIN:VEVENT
DTSTART;TZID=UTC:20251001T143000
DTEND;TZID=UTC:20251001T163000
DTSTAMP:20260422T090006
CREATED:20230420T132442Z
LAST-MODIFIED:20250807T141512Z
UID:1109-1759329000-1759336200@www.deopstap.com
SUMMARY:Peergroup voor (vermoedelijk) hoogbegaafde kinderen (groep 5 t/m 8)
DESCRIPTION:Ons doel is om (vermoedelijk) hoogbegaafde kinderen en jongeren met elkaar in contact te brengen door samen leuke activiteiten te ondernemen. Door het contact met gelijkgestemden kunnen de kinderen en jongeren zichzelf zijn\, kunnen zij levelen en vinden ze herkenning bij elkaar. We hopen dat we samen een leuke tijd hebben! \nU kunt hier aanmelden!
URL:https://www.deopstap.com/event/peergroup-voor-vermoedelijk-hoogbegaafde-kinderen-4-7-jaar-3/
LOCATION:De Opstap\, Kerkstraat 30\, Eibergen\, Gelderland\, 7151 BW\, Nederland
CATEGORIES:De Opstap
END:VEVENT
BEGIN:VEVENT
DTSTART;TZID=UTC:20250903T100000
DTEND;TZID=UTC:20250903T113000
DTSTAMP:20260422T090006
CREATED:20220915T083937Z
LAST-MODIFIED:20250204T123444Z
UID:948-1756893600-1756899000@www.deopstap.com
SUMMARY:Mama-cafe over motoriek bij baby's en peuters
DESCRIPTION:Voor jonge moeders met kinderen van 0-4 jaar die graag in contact willen komen met andere jonge moeders en praktische tips willen krijgen.
URL:https://www.deopstap.com/event/mama-cafe-7/
LOCATION:Openbare Bibliotheek Eibergen\, Grotestraat 58\, Eibergen\, Gelderland\, 7151 BD\, Nederland
CATEGORIES:De Opstap
END:VEVENT
BEGIN:VEVENT
DTSTART;TZID=UTC:20250226T150000
DTEND;TZID=UTC:20250226T190000
DTSTAMP:20260422T090006
CREATED:20220916T154925Z
LAST-MODIFIED:20250204T122601Z
UID:1002-1740582000-1740596400@www.deopstap.com
SUMMARY:Peergroup voor (vermoedelijk) hoogbegaafde kinderen: LASERGAMEN (alle groepen)
DESCRIPTION:Groep 1 t/m 4 15.00-17.30 uur \nGroep 5 t/m 8 15.00-17.30 uur \nPubers 17.30 – 19.00 uur \nOns doel is om (vermoedelijk) hoogbegaafde kinderen en jongeren met elkaar in contact te brengen door samen leuke activiteiten te ondernemen. Door het contact met gelijkgestemden kunnen de kinderen en jongeren zichzelf zijn\, kunnen zij levelen en vinden ze herkenning bij elkaar. We hopen dat we samen een leuke tijd hebben! U kunt hier aanmelden!
URL:https://www.deopstap.com/event/negatief-zelfbeeld-8/
LOCATION:De Opstap\, Kerkstraat 30\, Eibergen\, Gelderland\, 7151 BW\, Nederland
CATEGORIES:De Opstap
END:VEVENT
END:VCALENDAR